BEGIN:VCALENDAR
PRODID:-//github.com/rianjs/ical.net//NONSGML ical.net 4.0//EN
VERSION:2.0
BEGIN:VTIMEZONE
TZID:Eastern Standard Time
X-LIC-LOCATION:America/New_York
BEGIN:STANDARD
DTSTART:20241103T020000
RRULE:FREQ=YEARLY;BYDAY=1SU;BYMONTH=11
TZNAME:EST
TZOFFSETFROM:-0400
TZOFFSETTO:-0500
END:STANDARD
BEGIN:DAYLIGHT
DTSTART:20250309T020000
RRULE:FREQ=YEARLY;BYDAY=2SU;BYMONTH=3
TZNAME:EDT
TZOFFSETFROM:-0500
TZOFFSETTO:-0400
END:DAYLIGHT
END:VTIMEZONE
BEGIN:VEVENT
DTEND;TZID=Eastern Standard Time:20211015T130000
DTSTAMP:20260424T200152Z
DTSTART;TZID=Eastern Standard Time:20211015T120000
LOCATION:GoToWebinar
ORGANIZER;CN=;SENT-BY="mailto:":
SEQUENCE:0
SUMMARY:ARTBA: What You Need to Know: Vaccination Requirements for Federal
  Contractors
UID:0cbf5b84-80f6-4092-b07b-35d16efbe3b3
END:VEVENT
END:VCALENDAR
