BEGIN:VCALENDAR
PRODID:-//github.com/rianjs/ical.net//NONSGML ical.net 4.0//EN
VERSION:2.0
BEGIN:VTIMEZONE
TZID:Eastern Standard Time
X-LIC-LOCATION:America/New_York
BEGIN:STANDARD
DTSTART:20191103T020000
RRULE:FREQ=YEARLY;BYDAY=1SU;BYMONTH=11
TZNAME:EST
TZOFFSETFROM:-0400
TZOFFSETTO:-0500
END:STANDARD
BEGIN:DAYLIGHT
DTSTART:20200308T020000
RRULE:FREQ=YEARLY;BYDAY=2SU;BYMONTH=3
TZNAME:EDT
TZOFFSETFROM:-0500
TZOFFSETTO:-0400
END:DAYLIGHT
END:VTIMEZONE
BEGIN:VEVENT
DTEND;TZID=Eastern Standard Time:20210520T010000
DTSTAMP:20210909T230240Z
DTSTART;TZID=Eastern Standard Time:20210518T000000
LOCATION:None
ORGANIZER;CN=;SENT-BY="mailto:":
SEQUENCE:0
SUMMARY:2021 ARTBA FIP and TCC Fly-In
UID:33c83c6d-30ad-421c-aaa9-e5098161b3b9
END:VEVENT
END:VCALENDAR
